BEGIN:VCALENDAR
VERSION:2.0
PRODID:-//ChamberMaster//Event Calendar 2.0//EN
METHOD:PUBLISH
X-PUBLISHED-TTL:P1H
REFRESH-INTERVAL:P1H
CALSCALE:GREGORIAN
BEGIN:VTIMEZONE
TZID:America/New_York
BEGIN:DAYLIGHT
RRULE:FREQ=YEARLY;BYMONTH=3;BYDAY=2SU
DTSTART:20070101T000000
TZOFFSETFROM:-0500
TZOFFSETTO:-0400
TZNAME:Eastern Daylight Time
END:DAYLIGHT
BEGIN:STANDARD
RRULE:FREQ=YEARLY;BYMONTH=11;BYDAY=1SU
DTSTART:20070101T000000
TZOFFSETFROM:-0400
TZOFFSETTO:-0500
TZNAME:Eastern Standard Time
END:STANDARD
END:VTIMEZONE
BEGIN:VEVENT
DTSTART;TZID=America/New_York:20260508T083000
DTEND;TZID=America/New_York:20260508T100000
X-MICROSOFT-CDO-ALLDAYEVENT:FALSE
SUMMARY:K-12 Tech Hub Subcommittee Meeting
DESCRIPTION:Hello K-12 Enthusiasts\, The purpose of the South Florida K-12 Tech Talent Subcommittee is to connect education with industry\, to get students excited about STEM and to provide insightful information for individuals and groups in the K-12 space. Our meetings in 2025 will be held bimonthly. In order to provide the most value for attendees\, we would like to hear from you in order to craft our meetings to best serve your needs. The structure of the meetings will be as follows:Guest Speaker Topics of Discussion Breakout Rooms Group Discussion Updates from Districts and Member Organizations Our subcommittee chair is Sheela VanHoose\, a thought leader in education\, of TSG. Sheela is a seasoned education advocate and consultant leading TSG Advisors-Education\, a spinoff consultancy of The Southern Group where she is a partner. All the best\, Ashton
X-ALT-DESC;FMTTYPE=text/html:<!DOCTYPE html><html><head><title></title></head><body aria-disabled="false"><p>Hello K-12 Enthusiasts\,&nbsp\;</p><p>The purpose of the South Florida K-12 Tech Talent Subcommittee is to connect education with industry\, to get students excited about STEM and to provide insightful information for individuals and groups in the K-12 space.&nbsp\;</p><p>Our meetings in 2025 will be held bimonthly. In order to provide the most value for attendees\, we would like to hear from you in order to craft our meetings to best serve your needs. The structure of the meetings will be as follows:</p><ol fr-original-style="" style="list-style-position: inside\;"><li>Guest Speaker&nbsp\;</li><li>Topics of Discussion&nbsp\;</li><li>Breakout Rooms&nbsp\;</li><li>Group Discussion&nbsp\;</li><li>Updates from Districts and Member Organizations&nbsp\;</li></ol><p>Our subcommittee chair is Sheela VanHoose\, a thought leader in education\, of TSG. Sheela is a seasoned education advocate and consultant leading TSG Advisors-Education\, a spinoff consultancy of The Southern Group where she is a partner.&nbsp\;</p><p>All the best\,&nbsp\;</p><p>Ashton</p></body></html>
LOCATION:
UID:e.1704.1445846
SEQUENCE:3
DTSTAMP:20260424T212525Z
URL:https://southfloridatechhub.growthzoneapp.com/calendar/Details/k-12-tech-hub-subcommittee-meeting-1330191?sourceTypeId=Hub
END:VEVENT
END:VCALENDAR
